BEGIN:VCALENDAR
VERSION:2.0
PRODID:-//Stone Mountain Park - ECPv6.15.17//NONSGML v1.0//EN
CALSCALE:GREGORIAN
METHOD:PUBLISH
X-ORIGINAL-URL:https://stonemountainpark.com
X-WR-CALDESC:Events for Stone Mountain Park
REFRESH-INTERVAL;VALUE=DURATION:PT1H
X-Robots-Tag:noindex
X-PUBLISHED-TTL:PT1H
BEGIN:VTIMEZONE
TZID:America/New_York
BEGIN:DAYLIGHT
TZOFFSETFROM:-0500
TZOFFSETTO:-0400
TZNAME:EDT
DTSTART:20240310T070000
END:DAYLIGHT
BEGIN:STANDARD
TZOFFSETFROM:-0400
TZOFFSETTO:-0500
TZNAME:EST
DTSTART:20241103T060000
END:STANDARD
BEGIN:DAYLIGHT
TZOFFSETFROM:-0500
TZOFFSETTO:-0400
TZNAME:EDT
DTSTART:20250309T070000
END:DAYLIGHT
BEGIN:STANDARD
TZOFFSETFROM:-0400
TZOFFSETTO:-0500
TZNAME:EST
DTSTART:20251102T060000
END:STANDARD
BEGIN:DAYLIGHT
TZOFFSETFROM:-0500
TZOFFSETTO:-0400
TZNAME:EDT
DTSTART:20260308T070000
END:DAYLIGHT
BEGIN:STANDARD
TZOFFSETFROM:-0400
TZOFFSETTO:-0500
TZNAME:EST
DTSTART:20261101T060000
END:STANDARD
END:VTIMEZONE
BEGIN:VEVENT
DTSTART;TZID=America/New_York:20250301T050000
DTEND;TZID=America/New_York:20250301T230000
DTSTAMP:20260424T092243
CREATED:20241203T211401Z
LAST-MODIFIED:20241203T211401Z
UID:10006309-1740805200-1740870000@stonemountainpark.com
SUMMARY:Hiking Trails
DESCRIPTION:Stone Mountain Park features 15 miles of hiking and walking trails with varying degrees of difficulty. Enjoy the 5-mile trail around the base\, the 1-mile trail to the summit and more!
URL:https://stonemountainpark.com/event/hiking-trails-168/
ATTACH;FMTTYPE=image/png:https://stonemountainpark.com/wp-content/uploads/2022/12/SMP22_Recreation_Hiking.png
END:VEVENT
BEGIN:VEVENT
DTSTART;TZID=America/New_York:20250301T050000
DTEND;TZID=America/New_York:20250301T230000
DTSTAMP:20260424T092243
CREATED:20241203T211408Z
LAST-MODIFIED:20241203T211408Z
UID:10006370-1740805200-1740870000@stonemountainpark.com
SUMMARY:Walk-Up Trail to Top of Stone Mountain
DESCRIPTION:While on top\, 1\,683 feet above sea level\, enjoy amazing views of downtown Atlanta\, the North Georgia mountains and the surrounding area. On a haze-free day\, you can see 60 miles from the mountain.
URL:https://stonemountainpark.com/event/walk-up-trail-to-top-of-stone-mountain-55/
ATTACH;FMTTYPE=image/png:https://stonemountainpark.com/wp-content/uploads/2022/12/SMP22_Recreation_StoneMountainTrail.png
END:VEVENT
BEGIN:VEVENT
DTSTART;TZID=America/New_York:20250301T100000
DTEND;TZID=America/New_York:20250301T190000
DTSTAMP:20260424T092243
CREATED:20241219T184559Z
LAST-MODIFIED:20241219T184559Z
UID:10007091-1740823200-1740855600@stonemountainpark.com
SUMMARY:Summit Skyride
DESCRIPTION:This high-speed Swiss cable car transports guests more than 825 feet above ground to the top of Stone Mountain. From the top\, experience amazing views of the Atlanta skyline\, the Appalachian Mountains and more up to 60 miles away.
URL:https://stonemountainpark.com/event/summit-skyride-1008/
ATTACH;FMTTYPE=image/png:https://stonemountainpark.com/wp-content/uploads/2022/12/SMP14_attraction_summit-skyride-blue-car.png
END:VEVENT
BEGIN:VEVENT
DTSTART;TZID=America/New_York:20250302T050000
DTEND;TZID=America/New_York:20250302T230000
DTSTAMP:20260424T092243
CREATED:20241203T211401Z
LAST-MODIFIED:20241203T211401Z
UID:10006310-1740891600-1740956400@stonemountainpark.com
SUMMARY:Hiking Trails
DESCRIPTION:Stone Mountain Park features 15 miles of hiking and walking trails with varying degrees of difficulty. Enjoy the 5-mile trail around the base\, the 1-mile trail to the summit and more!
URL:https://stonemountainpark.com/event/hiking-trails-169/
ATTACH;FMTTYPE=image/png:https://stonemountainpark.com/wp-content/uploads/2022/12/SMP22_Recreation_Hiking.png
END:VEVENT
BEGIN:VEVENT
DTSTART;TZID=America/New_York:20250302T050000
DTEND;TZID=America/New_York:20250302T230000
DTSTAMP:20260424T092243
CREATED:20241203T211408Z
LAST-MODIFIED:20241203T211408Z
UID:10006371-1740891600-1740956400@stonemountainpark.com
SUMMARY:Walk-Up Trail to Top of Stone Mountain
DESCRIPTION:While on top\, 1\,683 feet above sea level\, enjoy amazing views of downtown Atlanta\, the North Georgia mountains and the surrounding area. On a haze-free day\, you can see 60 miles from the mountain.
URL:https://stonemountainpark.com/event/walk-up-trail-to-top-of-stone-mountain-56/
ATTACH;FMTTYPE=image/png:https://stonemountainpark.com/wp-content/uploads/2022/12/SMP22_Recreation_StoneMountainTrail.png
END:VEVENT
BEGIN:VEVENT
DTSTART;TZID=America/New_York:20250302T100000
DTEND;TZID=America/New_York:20250302T190000
DTSTAMP:20260424T092243
CREATED:20241219T184600Z
LAST-MODIFIED:20241219T184600Z
UID:10007092-1740909600-1740942000@stonemountainpark.com
SUMMARY:Summit Skyride
DESCRIPTION:This high-speed Swiss cable car transports guests more than 825 feet above ground to the top of Stone Mountain. From the top\, experience amazing views of the Atlanta skyline\, the Appalachian Mountains and more up to 60 miles away.
URL:https://stonemountainpark.com/event/summit-skyride-1009/
ATTACH;FMTTYPE=image/png:https://stonemountainpark.com/wp-content/uploads/2022/12/SMP14_attraction_summit-skyride-blue-car.png
END:VEVENT
BEGIN:VEVENT
DTSTART;TZID=America/New_York:20250303T050000
DTEND;TZID=America/New_York:20250303T230000
DTSTAMP:20260424T092243
CREATED:20241203T211401Z
LAST-MODIFIED:20241203T211401Z
UID:10006311-1740978000-1741042800@stonemountainpark.com
SUMMARY:Hiking Trails
DESCRIPTION:Stone Mountain Park features 15 miles of hiking and walking trails with varying degrees of difficulty. Enjoy the 5-mile trail around the base\, the 1-mile trail to the summit and more!
URL:https://stonemountainpark.com/event/hiking-trails-170/
ATTACH;FMTTYPE=image/png:https://stonemountainpark.com/wp-content/uploads/2022/12/SMP22_Recreation_Hiking.png
END:VEVENT
BEGIN:VEVENT
DTSTART;TZID=America/New_York:20250303T050000
DTEND;TZID=America/New_York:20250303T230000
DTSTAMP:20260424T092243
CREATED:20241203T211408Z
LAST-MODIFIED:20241203T211408Z
UID:10006372-1740978000-1741042800@stonemountainpark.com
SUMMARY:Walk-Up Trail to Top of Stone Mountain
DESCRIPTION:While on top\, 1\,683 feet above sea level\, enjoy amazing views of downtown Atlanta\, the North Georgia mountains and the surrounding area. On a haze-free day\, you can see 60 miles from the mountain.
URL:https://stonemountainpark.com/event/walk-up-trail-to-top-of-stone-mountain-57/
ATTACH;FMTTYPE=image/png:https://stonemountainpark.com/wp-content/uploads/2022/12/SMP22_Recreation_StoneMountainTrail.png
END:VEVENT
BEGIN:VEVENT
DTSTART;TZID=America/New_York:20250303T100000
DTEND;TZID=America/New_York:20250303T190000
DTSTAMP:20260424T092243
CREATED:20241219T184600Z
LAST-MODIFIED:20241219T184600Z
UID:10007093-1740996000-1741028400@stonemountainpark.com
SUMMARY:Summit Skyride
DESCRIPTION:This high-speed Swiss cable car transports guests more than 825 feet above ground to the top of Stone Mountain. From the top\, experience amazing views of the Atlanta skyline\, the Appalachian Mountains and more up to 60 miles away.
URL:https://stonemountainpark.com/event/summit-skyride-1010/
ATTACH;FMTTYPE=image/png:https://stonemountainpark.com/wp-content/uploads/2022/12/SMP14_attraction_summit-skyride-blue-car.png
END:VEVENT
BEGIN:VEVENT
DTSTART;TZID=America/New_York:20250304T050000
DTEND;TZID=America/New_York:20250304T230000
DTSTAMP:20260424T092243
CREATED:20241203T211401Z
LAST-MODIFIED:20241203T211401Z
UID:10006312-1741064400-1741129200@stonemountainpark.com
SUMMARY:Hiking Trails
DESCRIPTION:Stone Mountain Park features 15 miles of hiking and walking trails with varying degrees of difficulty. Enjoy the 5-mile trail around the base\, the 1-mile trail to the summit and more!
URL:https://stonemountainpark.com/event/hiking-trails-171/
ATTACH;FMTTYPE=image/png:https://stonemountainpark.com/wp-content/uploads/2022/12/SMP22_Recreation_Hiking.png
END:VEVENT
BEGIN:VEVENT
DTSTART;TZID=America/New_York:20250304T050000
DTEND;TZID=America/New_York:20250304T230000
DTSTAMP:20260424T092243
CREATED:20241203T211408Z
LAST-MODIFIED:20241203T211408Z
UID:10006373-1741064400-1741129200@stonemountainpark.com
SUMMARY:Walk-Up Trail to Top of Stone Mountain
DESCRIPTION:While on top\, 1\,683 feet above sea level\, enjoy amazing views of downtown Atlanta\, the North Georgia mountains and the surrounding area. On a haze-free day\, you can see 60 miles from the mountain.
URL:https://stonemountainpark.com/event/walk-up-trail-to-top-of-stone-mountain-58/
ATTACH;FMTTYPE=image/png:https://stonemountainpark.com/wp-content/uploads/2022/12/SMP22_Recreation_StoneMountainTrail.png
END:VEVENT
BEGIN:VEVENT
DTSTART;TZID=America/New_York:20250304T100000
DTEND;TZID=America/New_York:20250304T190000
DTSTAMP:20260424T092243
CREATED:20241219T184600Z
LAST-MODIFIED:20241219T184600Z
UID:10007094-1741082400-1741114800@stonemountainpark.com
SUMMARY:Summit Skyride
DESCRIPTION:This high-speed Swiss cable car transports guests more than 825 feet above ground to the top of Stone Mountain. From the top\, experience amazing views of the Atlanta skyline\, the Appalachian Mountains and more up to 60 miles away.
URL:https://stonemountainpark.com/event/summit-skyride-1011/
ATTACH;FMTTYPE=image/png:https://stonemountainpark.com/wp-content/uploads/2022/12/SMP14_attraction_summit-skyride-blue-car.png
END:VEVENT
BEGIN:VEVENT
DTSTART;TZID=America/New_York:20250305T050000
DTEND;TZID=America/New_York:20250305T230000
DTSTAMP:20260424T092243
CREATED:20241203T211402Z
LAST-MODIFIED:20241203T211402Z
UID:10006313-1741150800-1741215600@stonemountainpark.com
SUMMARY:Hiking Trails
DESCRIPTION:Stone Mountain Park features 15 miles of hiking and walking trails with varying degrees of difficulty. Enjoy the 5-mile trail around the base\, the 1-mile trail to the summit and more!
URL:https://stonemountainpark.com/event/hiking-trails-172/
ATTACH;FMTTYPE=image/png:https://stonemountainpark.com/wp-content/uploads/2022/12/SMP22_Recreation_Hiking.png
END:VEVENT
BEGIN:VEVENT
DTSTART;TZID=America/New_York:20250305T050000
DTEND;TZID=America/New_York:20250305T230000
DTSTAMP:20260424T092243
CREATED:20241203T211408Z
LAST-MODIFIED:20241203T211408Z
UID:10006374-1741150800-1741215600@stonemountainpark.com
SUMMARY:Walk-Up Trail to Top of Stone Mountain
DESCRIPTION:While on top\, 1\,683 feet above sea level\, enjoy amazing views of downtown Atlanta\, the North Georgia mountains and the surrounding area. On a haze-free day\, you can see 60 miles from the mountain.
URL:https://stonemountainpark.com/event/walk-up-trail-to-top-of-stone-mountain-59/
ATTACH;FMTTYPE=image/png:https://stonemountainpark.com/wp-content/uploads/2022/12/SMP22_Recreation_StoneMountainTrail.png
END:VEVENT
BEGIN:VEVENT
DTSTART;TZID=America/New_York:20250305T100000
DTEND;TZID=America/New_York:20250305T190000
DTSTAMP:20260424T092243
CREATED:20241219T184601Z
LAST-MODIFIED:20241219T184601Z
UID:10007095-1741168800-1741201200@stonemountainpark.com
SUMMARY:Summit Skyride
DESCRIPTION:This high-speed Swiss cable car transports guests more than 825 feet above ground to the top of Stone Mountain. From the top\, experience amazing views of the Atlanta skyline\, the Appalachian Mountains and more up to 60 miles away.
URL:https://stonemountainpark.com/event/summit-skyride-1012/
ATTACH;FMTTYPE=image/png:https://stonemountainpark.com/wp-content/uploads/2022/12/SMP14_attraction_summit-skyride-blue-car.png
END:VEVENT
BEGIN:VEVENT
DTSTART;TZID=America/New_York:20250306T050000
DTEND;TZID=America/New_York:20250306T230000
DTSTAMP:20260424T092243
CREATED:20241203T211402Z
LAST-MODIFIED:20241203T211402Z
UID:10006314-1741237200-1741302000@stonemountainpark.com
SUMMARY:Hiking Trails
DESCRIPTION:Stone Mountain Park features 15 miles of hiking and walking trails with varying degrees of difficulty. Enjoy the 5-mile trail around the base\, the 1-mile trail to the summit and more!
URL:https://stonemountainpark.com/event/hiking-trails-173/
ATTACH;FMTTYPE=image/png:https://stonemountainpark.com/wp-content/uploads/2022/12/SMP22_Recreation_Hiking.png
END:VEVENT
BEGIN:VEVENT
DTSTART;TZID=America/New_York:20250306T050000
DTEND;TZID=America/New_York:20250306T230000
DTSTAMP:20260424T092243
CREATED:20241203T211408Z
LAST-MODIFIED:20241203T211408Z
UID:10006375-1741237200-1741302000@stonemountainpark.com
SUMMARY:Walk-Up Trail to Top of Stone Mountain
DESCRIPTION:While on top\, 1\,683 feet above sea level\, enjoy amazing views of downtown Atlanta\, the North Georgia mountains and the surrounding area. On a haze-free day\, you can see 60 miles from the mountain.
URL:https://stonemountainpark.com/event/walk-up-trail-to-top-of-stone-mountain-60/
ATTACH;FMTTYPE=image/png:https://stonemountainpark.com/wp-content/uploads/2022/12/SMP22_Recreation_StoneMountainTrail.png
END:VEVENT
BEGIN:VEVENT
DTSTART;TZID=America/New_York:20250306T100000
DTEND;TZID=America/New_York:20250306T190000
DTSTAMP:20260424T092243
CREATED:20241219T184601Z
LAST-MODIFIED:20241219T184601Z
UID:10007096-1741255200-1741287600@stonemountainpark.com
SUMMARY:Summit Skyride
DESCRIPTION:This high-speed Swiss cable car transports guests more than 825 feet above ground to the top of Stone Mountain. From the top\, experience amazing views of the Atlanta skyline\, the Appalachian Mountains and more up to 60 miles away.
URL:https://stonemountainpark.com/event/summit-skyride-1013/
ATTACH;FMTTYPE=image/png:https://stonemountainpark.com/wp-content/uploads/2022/12/SMP14_attraction_summit-skyride-blue-car.png
END:VEVENT
BEGIN:VEVENT
DTSTART;TZID=America/New_York:20250307T050000
DTEND;TZID=America/New_York:20250307T230000
DTSTAMP:20260424T092243
CREATED:20241203T211402Z
LAST-MODIFIED:20241203T211402Z
UID:10006315-1741323600-1741388400@stonemountainpark.com
SUMMARY:Hiking Trails
DESCRIPTION:Stone Mountain Park features 15 miles of hiking and walking trails with varying degrees of difficulty. Enjoy the 5-mile trail around the base\, the 1-mile trail to the summit and more!
URL:https://stonemountainpark.com/event/hiking-trails-174/
ATTACH;FMTTYPE=image/png:https://stonemountainpark.com/wp-content/uploads/2022/12/SMP22_Recreation_Hiking.png
END:VEVENT
BEGIN:VEVENT
DTSTART;TZID=America/New_York:20250307T050000
DTEND;TZID=America/New_York:20250307T230000
DTSTAMP:20260424T092243
CREATED:20241203T211409Z
LAST-MODIFIED:20241203T211409Z
UID:10006376-1741323600-1741388400@stonemountainpark.com
SUMMARY:Walk-Up Trail to Top of Stone Mountain
DESCRIPTION:While on top\, 1\,683 feet above sea level\, enjoy amazing views of downtown Atlanta\, the North Georgia mountains and the surrounding area. On a haze-free day\, you can see 60 miles from the mountain.
URL:https://stonemountainpark.com/event/walk-up-trail-to-top-of-stone-mountain-61/
ATTACH;FMTTYPE=image/png:https://stonemountainpark.com/wp-content/uploads/2022/12/SMP22_Recreation_StoneMountainTrail.png
END:VEVENT
BEGIN:VEVENT
DTSTART;TZID=America/New_York:20250307T100000
DTEND;TZID=America/New_York:20250307T190000
DTSTAMP:20260424T092243
CREATED:20241219T184602Z
LAST-MODIFIED:20241219T184602Z
UID:10007097-1741341600-1741374000@stonemountainpark.com
SUMMARY:Summit Skyride
DESCRIPTION:This high-speed Swiss cable car transports guests more than 825 feet above ground to the top of Stone Mountain. From the top\, experience amazing views of the Atlanta skyline\, the Appalachian Mountains and more up to 60 miles away.
URL:https://stonemountainpark.com/event/summit-skyride-1014/
ATTACH;FMTTYPE=image/png:https://stonemountainpark.com/wp-content/uploads/2022/12/SMP14_attraction_summit-skyride-blue-car.png
END:VEVENT
BEGIN:VEVENT
DTSTART;TZID=America/New_York:20250308T050000
DTEND;TZID=America/New_York:20250308T230000
DTSTAMP:20260424T092243
CREATED:20241210T153355Z
LAST-MODIFIED:20241210T153355Z
UID:10006514-1741410000-1741474800@stonemountainpark.com
SUMMARY:Hiking Trails
DESCRIPTION:Stone Mountain Park features 15 miles of hiking and walking trails with varying degrees of difficulty. Enjoy the 5-mile trail around the base\, the 1-mile trail to the summit and more!
URL:https://stonemountainpark.com/event/hiking-trails-175/
ATTACH;FMTTYPE=image/png:https://stonemountainpark.com/wp-content/uploads/2022/12/SMP22_Recreation_Hiking.png
END:VEVENT
BEGIN:VEVENT
DTSTART;TZID=America/New_York:20250308T050000
DTEND;TZID=America/New_York:20250308T230000
DTSTAMP:20260424T092243
CREATED:20241210T153408Z
LAST-MODIFIED:20241210T153408Z
UID:10006590-1741410000-1741474800@stonemountainpark.com
SUMMARY:Walk-Up Trail to Top of Stone Mountain
DESCRIPTION:While on top\, 1\,683 feet above sea level\, enjoy amazing views of downtown Atlanta\, the North Georgia mountains and the surrounding area. On a haze-free day\, you can see 60 miles from the mountain.
URL:https://stonemountainpark.com/event/walk-up-trail-to-top-of-stone-mountain-62/
ATTACH;FMTTYPE=image/png:https://stonemountainpark.com/wp-content/uploads/2022/12/SMP22_Recreation_StoneMountainTrail.png
END:VEVENT
BEGIN:VEVENT
DTSTART;TZID=America/New_York:20250308T100000
DTEND;TZID=America/New_York:20250308T200000
DTSTAMP:20260424T092243
CREATED:20241219T184623Z
LAST-MODIFIED:20241219T184623Z
UID:10007098-1741428000-1741464000@stonemountainpark.com
SUMMARY:Summit Skyride
DESCRIPTION:This high-speed Swiss cable car transports guests more than 825 feet above ground to the top of Stone Mountain. From the top\, experience amazing views of the Atlanta skyline\, the Appalachian Mountains and more up to 60 miles away.
URL:https://stonemountainpark.com/event/summit-skyride-1015/
ATTACH;FMTTYPE=image/png:https://stonemountainpark.com/wp-content/uploads/2022/12/SMP14_attraction_summit-skyride-blue-car.png
END:VEVENT
BEGIN:VEVENT
DTSTART;TZID=America/New_York:20250308T113000
DTEND;TZID=America/New_York:20250308T200000
DTSTAMP:20260424T092243
CREATED:20250107T184538Z
LAST-MODIFIED:20250107T184538Z
UID:10007193-1741433400-1741464000@stonemountainpark.com
SUMMARY:Dino Fest
DESCRIPTION:Dino Fest is coming back Spring 2025 with new high-flying dinosaurs\, dinosaurs in 4-D\, a NEW lighted dinosaur-themed parade\, plus a special dinosaur Drone & Light Show on Saturdays and nightly during Spring Break.
URL:https://stonemountainpark.com/event/dino-fest-3/
ATTACH;FMTTYPE=image/png:https://stonemountainpark.com/wp-content/uploads/2023/01/WA_Attractions_Dinosaur-Explore_MG-1.png
END:VEVENT
BEGIN:VEVENT
DTSTART;TZID=America/New_York:20250308T113000
DTEND;TZID=America/New_York:20250308T200000
DTSTAMP:20260424T092243
CREATED:20250109T190857Z
LAST-MODIFIED:20250109T190857Z
UID:10007576-1741433400-1741464000@stonemountainpark.com
SUMMARY:Dinosaur Explore
DESCRIPTION:Embark on a journey where you and your family will encounter dinosaurs so BIG\, so LIFELIKE\, you’ll swear you’ve gone Jurassic! Experience over 20 life-size\, moving\, roaring prehistoric creatures and take a selfie at fantastic photo ops!
URL:https://stonemountainpark.com/event/dinosaur-explore-7/
ATTACH;FMTTYPE=image/png:https://stonemountainpark.com/wp-content/uploads/2022/12/SMP22_Attractions_DinosaurExplore_MobileActivityThumbnail.png
END:VEVENT
BEGIN:VEVENT
DTSTART;TZID=America/New_York:20250308T113000
DTEND;TZID=America/New_York:20250308T200000
DTSTAMP:20260424T092243
CREATED:20250109T190858Z
LAST-MODIFIED:20250109T190858Z
UID:10007577-1741433400-1741464000@stonemountainpark.com
SUMMARY:Dinotorium
DESCRIPTION:Experience four levels of indoor fun\, games and scientific wonder sure to captivate you and your Dino Rangers-in-training.
URL:https://stonemountainpark.com/event/dinotorium-7/
ATTACH;FMTTYPE=image/png:https://stonemountainpark.com/wp-content/uploads/2022/12/SMP22_Attractions_Dinotorium_Mobile.png
END:VEVENT
BEGIN:VEVENT
DTSTART;TZID=America/New_York:20250309T050000
DTEND;TZID=America/New_York:20250309T230000
DTSTAMP:20260424T092243
CREATED:20241210T153355Z
LAST-MODIFIED:20241210T153355Z
UID:10006515-1741496400-1741561200@stonemountainpark.com
SUMMARY:Hiking Trails
DESCRIPTION:Stone Mountain Park features 15 miles of hiking and walking trails with varying degrees of difficulty. Enjoy the 5-mile trail around the base\, the 1-mile trail to the summit and more!
URL:https://stonemountainpark.com/event/hiking-trails-176/
ATTACH;FMTTYPE=image/png:https://stonemountainpark.com/wp-content/uploads/2022/12/SMP22_Recreation_Hiking.png
END:VEVENT
BEGIN:VEVENT
DTSTART;TZID=America/New_York:20250309T050000
DTEND;TZID=America/New_York:20250309T230000
DTSTAMP:20260424T092243
CREATED:20241210T153408Z
LAST-MODIFIED:20241210T153408Z
UID:10006591-1741496400-1741561200@stonemountainpark.com
SUMMARY:Walk-Up Trail to Top of Stone Mountain
DESCRIPTION:While on top\, 1\,683 feet above sea level\, enjoy amazing views of downtown Atlanta\, the North Georgia mountains and the surrounding area. On a haze-free day\, you can see 60 miles from the mountain.
URL:https://stonemountainpark.com/event/walk-up-trail-to-top-of-stone-mountain-63/
ATTACH;FMTTYPE=image/png:https://stonemountainpark.com/wp-content/uploads/2022/12/SMP22_Recreation_StoneMountainTrail.png
END:VEVENT
BEGIN:VEVENT
DTSTART;TZID=America/New_York:20250309T100000
DTEND;TZID=America/New_York:20250309T200000
DTSTAMP:20260424T092243
CREATED:20241219T184623Z
LAST-MODIFIED:20241219T184623Z
UID:10007099-1741514400-1741550400@stonemountainpark.com
SUMMARY:Summit Skyride
DESCRIPTION:This high-speed Swiss cable car transports guests more than 825 feet above ground to the top of Stone Mountain. From the top\, experience amazing views of the Atlanta skyline\, the Appalachian Mountains and more up to 60 miles away.
URL:https://stonemountainpark.com/event/summit-skyride-1016/
ATTACH;FMTTYPE=image/png:https://stonemountainpark.com/wp-content/uploads/2022/12/SMP14_attraction_summit-skyride-blue-car.png
END:VEVENT
END:VCALENDAR